BEGIN:VCALENDAR
VERSION:2.0
PRODID:spatie/icalendar-generator
DESCRIPTION:鍛錬ジム｜QOL Lab（クオルラボ）のイベント
X-WR-CALDESC:鍛錬ジム｜QOL Lab（クオルラボ）のイベント
REFRESH-INTERVAL;VALUE=DURATION:PT1440M
X-PUBLISHED-TTL:PT1440M
BEGIN:VTIMEZONE
TZID:Asia/Tokyo
BEGIN:STANDARD
DTSTART:20221113T000000Z
TZOFFSETFROM:+0900
TZOFFSETTO:+0900
END:STANDARD
END:VTIMEZONE
BEGIN:VTIMEZONE
TZID:UTC
BEGIN:STANDARD
DTSTART:20250727T195524Z
TZOFFSETFROM:+0000
TZOFFSETTO:+0000
END:STANDARD
END:VTIMEZONE
BEGIN:VEVENT
UID:65-65
DTSTAMP:20260423T195524Z
SUMMARY:スタッフ在中時間 10:00～16:00
LOCATION:
ORGANIZER;CN=qollab-wp:MAILTO:info@qollab-japan.com
DTSTART;TZID=Asia/Tokyo;VALUE=DATE:20230810
DTEND;TZID=Asia/Tokyo;VALUE=DATE:20230811
X-ALT-DESC;FMTTYPE=TEXT/HTML:スタッフ研修によりスタッフ在中
 は、16時までとさせていただきます。 各種手続き、ビ
 ジター利用ができませんことお&amp;hellip\;
CATEGORIES:General
URL;VALUE=URI:https://qollab-japan.com/mc-events/%e3%82%b9%e3%82%bf%e3%83%8
 3%e3%83%95%e5%9c%a8%e4%b8%ad%e6%99%82%e9%96%93-1000%ef%bd%9e1600-6/?mc_id=
 65
END:VEVENT
END:VCALENDAR